BEGIN:VCALENDAR
VERSION:2.0
PRODID:-//ChamberMaster//Event Calendar 2.0//EN
METHOD:PUBLISH
X-PUBLISHED-TTL:P1H
REFRESH-INTERVAL:P1H
CALSCALE:GREGORIAN
BEGIN:VTIMEZONE
TZID:America/Chicago
BEGIN:DAYLIGHT
RRULE:FREQ=YEARLY;BYMONTH=3;BYDAY=2SU
DTSTART:20070101T000000
TZOFFSETFROM:-0600
TZOFFSETTO:-0500
TZNAME:Central Daylight Time
END:DAYLIGHT
BEGIN:STANDARD
RRULE:FREQ=YEARLY;BYMONTH=11;BYDAY=1SU
DTSTART:20070101T000000
TZOFFSETFROM:-0500
TZOFFSETTO:-0600
TZNAME:Central Standard Time
END:STANDARD
END:VTIMEZONE
BEGIN:VEVENT
DTSTART;TZID=America/Chicago:20260918T090000
DTEND;TZID=America/Chicago:20260918T150000
X-MICROSOFT-CDO-ALLDAYEVENT:FALSE
SUMMARY:IPRF Golf Outing
DESCRIPTION:p.p1 {margin: 0.0px 0.0px 0.0px 0.0px\; font: 12.0px Arial\; color: #c43232\; -webkit-text-stroke: #c43232} span.s1 {font-kerning: none}\nThe annual IPRF Golf Outing is a great opportunity to enjoy a day of golf\, fun\, and networking! The proceeds from this event support the Illinois Park and Recreation Foundation's programs including scholarships which assists students and professionals in the field of park and recreation\, the Special Assistance and Disaster Relief Fund for members in need\, and diversity\, equity and inclusion training for IPRA professionals. Registration includes golf\, cart\, on course contests\, awards\, and a lunch.Over the past decade IPRF has provided a total of $250\,000 in scholarships\, sponsorships\, and special grants.  Outing proceeds benefit Foundation programs such as:Continuing education scholarships and programs for students and professionals in the field of parks/recreation.Our Special Assistance & Disaster Relief Program provides financial assistance to IPRA members who have experienced a disaster related financial loss.Financial support for IPRA's nationally recognized diversity/equity/inclusion training for park and recreation staff. Golf Group Assignments:  Signing up as a foursome will guarantee your group.  Signing up 2-3 golfers will guarantee those individuals will be placed in the same foursome upon assignment.  All foursomes will be assigned by the IPRF Golf Committee.Sponsorship:  The last day to register and receive recognition on our signage & sponsor materials is June 30\, 2026.  We welcome your registration after that date\, and will work to include your company recognition as deadlines permit.\n\nCancellations: Refunds will be issued to requests received on or before September 6\, 2026\, less a 20% administrative fee. No refunds will be issued for cancellations received after September 6\, 2026.\n\nCEUs: Event is not approved for CEUs (Continuing Education Units are for certifications such as CPRE\, CPRP\, and CTRS).
X-ALT-DESC;FMTTYPE=text/html:<!DOCTYPE html><html><head><title></title></head><body aria-disabled="false"><style type="text/css">\np.p1 {margin: 0.0px 0.0px 0.0px 0.0px\; font: 12.0px Arial\; color: #c43232\; -webkit-text-stroke: #c43232} span.s1 {font-kerning: none}\n</style><p>The annual IPRF Golf Outing is a great opportunity to enjoy a day of golf\, fun\, and networking! The proceeds from this event support the Illinois Park and Recreation Foundation&rsquo\;s programs including scholarships which assists students and professionals in the field of park and recreation\, the Special Assistance and Disaster Relief Fund for members in need\, and diversity\, equity and inclusion training for IPRA professionals. Registration includes golf\, cart\, on course contests\, awards\, and a lunch.</p><p><meta charset="utf-8"></p><p>Over the past decade IPRF has provided a total of <meta charset="UTF-8">$250\,000 in scholarships\, sponsorships\, and special grants. &nbsp\;Outing proceeds benefit Foundation programs such as:</p><ul fr-original-style="" style="list-style-position: inside\;"><li>Continuing education scholarships and programs for students and professionals in the field of parks/recreation.</li><li>Our Special Assistance &amp\; Disaster Relief Program provides financial assistance to IPRA members who have experienced a disaster related financial loss.</li><li>Financial support for IPRA&rsquo\;s nationally recognized diversity/equity/inclusion training for park and recreation staff.&nbsp\;</li></ul><p><strong fr-original-style="" style="font-weight: 700\;">Golf Group Assignments:</strong>&nbsp\; Signing up as a foursome will guarantee your group. &nbsp\;Signing up 2-3 golfers will guarantee those individuals will be placed in the same foursome upon assignment. &nbsp\;All foursomes will be assigned by the IPRF Golf Committee.</p><p><strong fr-original-style="" style="font-weight: 700\;">Sponsorship: &nbsp\;</strong>The last day to register and receive recognition on our signage &amp\; sponsor materials is June 30\, 2026. &nbsp\;We welcome your registration after that date\, and will work to include your company recognition as deadlines permit.<br style="box-sizing: border-box\; color: rgb(51\, 51\, 51)\; font-family: &quot\;Open Sans&quot\;\, Helvetica\, Arial\, sans-serif\; font-size: 14px\; font-style: normal\; font-variant-ligatures: normal\; font-variant-caps: normal\; font-weight: 400\; letter-spacing: normal\; orphans: 2\; text-align: start\; text-indent: 0px\; text-transform: none\; white-space: normal\; widows: 2\; word-spacing: 0px\; -webkit-text-stroke-width: 0px\; background-color: rgb(255\, 255\, 255)\; text-decoration-thickness: initial\; text-decoration-style: initial\; text-decoration-color: initial\;"><strong fr-original-style="" style="font-weight: 700\;"><br style="box-sizing: border-box\; color: rgb(51\, 51\, 51)\; font-family: &quot\;Open Sans&quot\;\, Helvetica\, Arial\, sans-serif\; font-size: 14px\; font-style: normal\; font-variant-ligatures: normal\; font-variant-caps: normal\; font-weight: 400\; letter-spacing: normal\; orphans: 2\; text-align: start\; text-indent: 0px\; text-transform: none\; white-space: normal\; widows: 2\; word-spacing: 0px\; -webkit-text-stroke-width: 0px\; background-color: rgb(255\, 255\, 255)\; text-decoration-thickness: initial\; text-decoration-style: initial\; text-decoration-color: initial\;">Cancellations:</strong> Refunds will be issued to requests received on or before September 6\, 2026\, less a 20% administrative fee. No refunds will be issued for cancellations received after September 6\, 2026.<br style="box-sizing: border-box\; color: rgb(51\, 51\, 51)\; font-family: &quot\;Open Sans&quot\;\, Helvetica\, Arial\, sans-serif\; font-size: 14px\; font-style: normal\; font-variant-ligatures: normal\; font-variant-caps: normal\; font-weight: 400\; letter-spacing: normal\; orphans: 2\; text-align: start\; text-indent: 0px\; text-transform: none\; white-space: normal\; widows: 2\; word-spacing: 0px\; -webkit-text-stroke-width: 0px\; background-color: rgb(255\, 255\, 255)\; text-decoration-thickness: initial\; text-decoration-style: initial\; text-decoration-color: initial\;"><br style="box-sizing: border-box\; color: rgb(51\, 51\, 51)\; font-family: &quot\;Open Sans&quot\;\, Helvetica\, Arial\, sans-serif\; font-size: 14px\; font-style: normal\; font-variant-ligatures: normal\; font-variant-caps: normal\; font-weight: 400\; letter-spacing: normal\; orphans: 2\; text-align: start\; text-indent: 0px\; text-transform: none\; white-space: normal\; widows: 2\; word-spacing: 0px\; -webkit-text-stroke-width: 0px\; background-color: rgb(255\, 255\, 255)\; text-decoration-thickness: initial\; text-decoration-style: initial\; text-decoration-color: initial\;"><strong fr-original-style="" style="font-weight: 700\;">CEUs:</strong> Event is not approved for CEUs (Continuing Education Units are for certifications such as CPRE\, CPRP\, and CTRS).<br style="box-sizing: border-box\; color: rgb(51\, 51\, 51)\; font-family: &quot\;Open Sans&quot\;\, Helvetica\, Arial\, sans-serif\; font-size: 14px\; font-style: normal\; font-variant-ligatures: normal\; font-variant-caps: normal\; font-weight: 400\; letter-spacing: normal\; orphans: 2\; text-align: start\; text-indent: 0px\; text-transform: none\; white-space: normal\; widows: 2\; word-spacing: 0px\; -webkit-text-stroke-width: 0px\; background-color: rgb(255\, 255\, 255)\; text-decoration-thickness: initial\; text-decoration-style: initial\; text-decoration-color: initial\;"><br style="box-sizing: border-box\; color: rgb(51\, 51\, 51)\; font-family: &quot\;Open Sans&quot\;\, Helvetica\, Arial\, sans-serif\; font-size: 14px\; font-style: normal\; font-variant-ligatures: normal\; font-variant-caps: normal\; font-weight: 400\; letter-spacing: normal\; orphans: 2\; text-align: start\; text-indent: 0px\; text-transform: none\; white-space: normal\; widows: 2\; word-spacing: 0px\; -webkit-text-stroke-width: 0px\; background-color: rgb(255\, 255\, 255)\; text-decoration-thickness: initial\; text-decoration-style: initial\; text-decoration-color: initial\;"></p></body></html>
LOCATION:Hughes Creek Golf Course 1749 Spring Valley Drive Elburn IL 60119
UID:e.3289.1377834
SEQUENCE:3
DTSTAMP:20260421T215638Z
URL:https://members.ilipra.org/affiliate-calendar/Details/iprf-golf-outing-1626770?sourceTypeId=Hub
END:VEVENT
END:VCALENDAR
