BEGIN:VCALENDAR
VERSION:2.0
PRODID:-//ChamberMaster//Event Calendar 2.0//EN
METHOD:PUBLISH
X-PUBLISHED-TTL:P1H
REFRESH-INTERVAL:P1H
CALSCALE:GREGORIAN
BEGIN:VTIMEZONE
TZID:America/Chicago
BEGIN:DAYLIGHT
RRULE:FREQ=YEARLY;BYMONTH=3;BYDAY=2SU
DTSTART:20070101T000000
TZOFFSETFROM:-0600
TZOFFSETTO:-0500
TZNAME:Central Daylight Time
END:DAYLIGHT
BEGIN:STANDARD
RRULE:FREQ=YEARLY;BYMONTH=11;BYDAY=1SU
DTSTART:20070101T000000
TZOFFSETFROM:-0500
TZOFFSETTO:-0600
TZNAME:Central Standard Time
END:STANDARD
END:VTIMEZONE
BEGIN:VEVENT
DTSTART;TZID=America/Chicago:20260512T110000
DTEND;TZID=America/Chicago:20260512T120000
X-MICROSOFT-CDO-ALLDAYEVENT:FALSE
SUMMARY:Lunch & Learn: Best Practices with Park District Investments
DESCRIPTION:Investing doesn't need to be intimidating. Join PFM Asset Management in this Lunch & Learn to discover the best practices for managing park district investments. Demystify key legal and regulatory requirements governing park district investments. Discover how developing robust investment policies and analyzing cash flow can lead to more savvy decision-making. Receive resources from the Government Finance Officers Association (GFOA) as well as identify current market trends relevant to local government investors\nRegistration closes at 12:00 p.m. CST on Monday\, May 11.Who Should Attend: This session is ideal for finance department professionals\, and for those who manage employee benefits and pensions\, capital programming\, grant funded capital items\, or strategic planning.How to Participate: The event will take place live via Zoom Webinar. Participants will receive a Zoom join link after the registration deadline passes. CEUs: Event is not approved for CEUs.Watching the Recording: Lunch and Learn recordings are only available to LMS Subscribers on the IPRA University starting in March of 2026.
X-ALT-DESC;FMTTYPE=text/html:<!DOCTYPE html><html><head><title></title></head><body aria-disabled="false"><p>Investing doesn&#39\;t need to be intimidating. Join PFM Asset Management in this Lunch &amp\; Learn to discover the best practices <span data-olk-copy-source="MessageBody">for managing park district investments. Demystify key legal and regulatory requirements governing park district investments. Discover how developing robust investment policies and analyzing cash flow can lead to more savvy decision-making. Receive resources from the Government Finance Officers Association (GFOA) as well as identify <span data-olk-copy-source="MessageBody">current market trends relevant to local government investors</span></span></p><p><br></p><p><span style="font-family: Arial\,Helvetica\,sans-serif\;"><span style="font-size: 18px\;"><strong fr-original-style="" style="font-weight: 700\;"><span style="color: rgb(184\, 49\, 47)\;">Registration closes at 12:00 p.m. CST on Monday\, May 11.</span></strong></span></span></p><p><span style="font-family: Arial\,Helvetica\,sans-serif\;"><span style="font-size: 18px\;"><strong fr-original-style="" style="font-weight: 700\;">Who Should Attend:&nbsp\;</strong>This session is ideal for finance department professionals\, and for those who manage employee benefits and pensions\, capital programming\, grant funded capital items\, or strategic planning.</span></span></p><p><span style="font-family: Arial\,Helvetica\,sans-serif\;"><span style="font-size: 18px\;"><strong fr-original-style="" style="font-weight: 700\;">How to Participate:&nbsp\;</strong>The event will take place live via Zoom Webinar. Participants will receive a Zoom join link after the registration deadline passes.&nbsp\;</span></span></p><p><span style="font-family: Arial\,Helvetica\,sans-serif\;"><span style="font-size: 18px\;"><strong fr-original-style="" style="font-weight: 700\;">CEUs</strong>: Event is not approved for CEUs.</span></span></p><p><span style="font-size: 18px\; font-family: Arial\, Helvetica\, sans-serif\;"><strong fr-original-style="" style="font-weight: 700\;">Watching the Recording:&nbsp\;</strong>Lunch and Learn recordings are only available to LMS Subscribers on the <a fr-original-style="" href="https://www.pathlms.com/ipra-university" rel="noopener noreferrer" style="user-select: auto\;" target="_blank"><strong fr-original-style="" style="font-weight: 700\;">IPRA University</strong></a> starting in March of 2026.</span></p></body></html>
LOCATION:
UID:e.3289.1297014
SEQUENCE:3
DTSTAMP:20260421T152236Z
URL:https://members.ilipra.org/affiliate-calendar/Details/lunch-learn-best-practices-with-park-district-investments-1518029?sourceTypeId=Hub
END:VEVENT
END:VCALENDAR
