BEGIN:VCALENDAR
VERSION:2.0
PRODID:-//ChamberMaster//Event Calendar 2.0//EN
METHOD:PUBLISH
X-PUBLISHED-TTL:P1H
REFRESH-INTERVAL:P1H
CALSCALE:GREGORIAN
BEGIN:VTIMEZONE
TZID:America/Chicago
BEGIN:DAYLIGHT
RRULE:FREQ=YEARLY;BYMONTH=3;BYDAY=2SU
DTSTART:20070101T000000
TZOFFSETFROM:-0600
TZOFFSETTO:-0500
TZNAME:Central Daylight Time
END:DAYLIGHT
BEGIN:STANDARD
RRULE:FREQ=YEARLY;BYMONTH=11;BYDAY=1SU
DTSTART:20070101T000000
TZOFFSETFROM:-0500
TZOFFSETTO:-0600
TZNAME:Central Standard Time
END:STANDARD
END:VTIMEZONE
BEGIN:VEVENT
DTSTART;TZID=America/Chicago:20260512T110000
DTEND;TZID=America/Chicago:20260512T120000
X-MICROSOFT-CDO-ALLDAYEVENT:FALSE
SUMMARY:Planner Task Force Roundtable
DESCRIPTION:IPRA's Parks & Natural Resource Management (PNRM) Section consists of park district professionals that either specialize or work in and around parks and natural resources.  If you are interested in joining the group or simply wish to attend for educational and networking purposes\, you are encouraged to register.Join us at the PNRM Section's BRAND NEW Planner Task Force Roundtable.  Whether you are an experienced park planner or are just getting started\, this group is for you. At this meeting\, participants will discuss OSLAD\, new BEP information and bidding requirements\, public engagement\, and best practices for advertising and increasing attendance. How to Participate: This meeting will be available for IPRA Members in the CommUnity. Registered members will receive access links the day prior to the meeting. Members can click here to log into their accounts and opt-in to the Planner Task Force list and CommUnity page through Lists/Committees. Not an IPRA member? Click here and join today!CEUs: Event is not approved for CEUs (Continuing Education Units are for certifications such as CTRS\, CPRE and CPRP certification).
X-ALT-DESC;FMTTYPE=text/html:<!DOCTYPE html><html><head><title></title></head><body aria-disabled="false"><p>IPRA&#39\;s Parks &amp\; Natural Resource Management (PNRM) Section consists of park district professionals that either specialize or work in and around parks and natural resources. &nbsp\;If you are interested in joining the group or simply wish to attend for educational and networking purposes\, you are encouraged to register.</p><p>Join us at the PNRM Section&#39\;s <strong fr-original-style="" style="font-weight: 700\;"><u>BRAND NEW</u></strong> Planner Task Force Roundtable. &nbsp\;Whether you are an experienced park planner or are just getting started\, this group is for you. At this meeting\, participants will discuss OSLAD\, new BEP information and bidding requirements\, public engagement\, and best practices for advertising and increasing attendance.&nbsp\;</p><p><strong fr-original-style="" style="font-weight: 700\;">How to Participate:</strong> This meeting will be available for IPRA Members in the CommUnity. Registered members will receive access links the day prior to the meeting.&nbsp\;</p><p><span style="color: rgb(184\, 49\, 47)\;">Members can click </span><a fr-original-style="" href="https://illinoisparkandrecreationassociation.growthzoneapp.com/MIC/17417309/16019773/#/MyInfo/AccountContactInfo" rel="noopener noreferrer" style="user-select: auto\;" target="_blank"><span style="color: rgb(184\, 49\, 47)\;">here</span></a><span style="color: rgb(184\, 49\, 47)\;">&nbsp\;to log into their accounts and opt-in to the Planner Task Force list and CommUnity page through Lists/Committees. Not an IPRA member? Click </span><a fr-original-style="" href="https://www.ilipra.org/professional-membership/" rel="noopener noreferrer" style="user-select: auto\;" target="_blank"><span style="color: rgb(184\, 49\, 47)\;">here</span></a><span style="color: rgb(184\, 49\, 47)\;"> and join today!</span></p><p><strong fr-original-style="" style="font-weight: 700\;">CEUs:</strong> Event is not approved for CEUs (Continuing Education Units are for certifications such as CTRS\, CPRE and CPRP certification).</p></body></html>
LOCATION:
UID:e.3289.1449563
SEQUENCE:3
DTSTAMP:20260423T010110Z
URL:https://members.ilipra.org/affiliate-calendar/Details/planner-task-force-roundtable-1717012?sourceTypeId=Hub
END:VEVENT
END:VCALENDAR
